BEGIN:VCALENDAR
VERSION:2.0
PRODID:-//Gewässerschutz- und Angelverein Reinheim - Ueberau - ECPv6.10.0//NONSGML v1.0//EN
CALSCALE:GREGORIAN
METHOD:PUBLISH
X-WR-CALNAME:Gewässerschutz- und Angelverein Reinheim - Ueberau
X-ORIGINAL-URL:https://gav-reinheim.de
X-WR-CALDESC:Veranstaltungen für Gewässerschutz- und Angelverein Reinheim - Ueberau
REFRESH-INTERVAL;VALUE=DURATION:PT1H
X-Robots-Tag:noindex
X-PUBLISHED-TTL:PT1H
BEGIN:VTIMEZONE
TZID:Europe/Berlin
BEGIN:DAYLIGHT
TZOFFSETFROM:+0100
TZOFFSETTO:+0200
TZNAME:CEST
DTSTART:20260329T010000
END:DAYLIGHT
BEGIN:STANDARD
TZOFFSETFROM:+0200
TZOFFSETTO:+0100
TZNAME:CET
DTSTART:20261025T010000
END:STANDARD
END:VTIMEZONE
BEGIN:VEVENT
DTSTART;TZID=Europe/Berlin:20260620T180000
DTEND;TZID=Europe/Berlin:20260621T080000
DTSTAMP:20260419T142413
CREATED:20260117T141315Z
LAST-MODIFIED:20260322T101710Z
UID:1392-1781978400-1782028800@gav-reinheim.de
SUMMARY:Sommerfest und 3. Hegeangeln (Nacht) 2026
DESCRIPTION:60 Jahre GAV: Einladung zum Sommerfest! 🥳\nWir feiern Jubiläum! Sechs Jahrzehnte GAV sind der perfekte Grund für ein großes Sommerfest mit Freunden und Familie. \nDas Wichtigste auf einen Blick:\n\nFür wen: GAV Mitglieder und Familienmitglieder.\nVerpflegung: Essen und Getränke sind kostenfrei.\nSpenden: Wer uns unterstützen möchte\, darf gerne unsere Spendenbox vor Ort füttern.\n\nLos geht’s voraussichtlich um 13:00 Uhr\, weitere Details folgen. \nHegeangeln (Nacht) im Anschluss\nDanach laden wir unsere Aktiven zum gemeinsamen Hegeangeln ein und freuen uns auf einen entspannten Abend und eine milde Nacht mit euch. \nBei Bedarf Knicklichter\, Mückenschutz und die Kaffeekanne nicht vergessen 😉 Das Hegeangeln (Nacht) beginnt um 18:00\, wir freuen uns auf euch! \nIm Anschluss an das Hegeangeln darf im erlaubten Rahmen weiter geangelt werden. \nViele Grüße und ein dickes Petri\nEuer Vorstand
URL:https://gav-reinheim.de/event/3-hegeangeln-nacht-2026
LOCATION:Ludwigsteich\, Roßdorf\, 64380
CATEGORIES:Hegeangeln
ORGANIZER;CN="GAV Reinheim - Ueberau":MAILTO:info@gav-reinheim.de
END:VEVENT
END:VCALENDAR