BEGIN:VCALENDAR
VERSION:2.0
PRODID:-//Gewässerschutz- und Angelverein Reinheim - Ueberau - ECPv6.10.0//NONSGML v1.0//EN
CALSCALE:GREGORIAN
METHOD:PUBLISH
X-WR-CALNAME:Gewässerschutz- und Angelverein Reinheim - Ueberau
X-ORIGINAL-URL:https://gav-reinheim.de
X-WR-CALDESC:Veranstaltungen für Gewässerschutz- und Angelverein Reinheim - Ueberau
REFRESH-INTERVAL;VALUE=DURATION:PT1H
X-Robots-Tag:noindex
X-PUBLISHED-TTL:PT1H
BEGIN:VTIMEZONE
TZID:Europe/Berlin
BEGIN:DAYLIGHT
TZOFFSETFROM:+0100
TZOFFSETTO:+0200
TZNAME:CEST
DTSTART:20250330T010000
END:DAYLIGHT
BEGIN:STANDARD
TZOFFSETFROM:+0200
TZOFFSETTO:+0100
TZNAME:CET
DTSTART:20251026T010000
END:STANDARD
END:VTIMEZONE
BEGIN:VEVENT
DTSTART;TZID=Europe/Berlin:20251028T120000
DTEND;TZID=Europe/Berlin:20251102T080000
DTSTAMP:20260419T163832
CREATED:20250126T193933Z
LAST-MODIFIED:20250126T194013Z
UID:1158-1761652800-1762070400@gav-reinheim.de
SUMMARY:Ludwigsteich gesperrt
DESCRIPTION:Es wird daran erinnert\, dass der Ludwigsteich vor dem 1.\, 5. und 6. Hegeangeln jeweils ab Dienstag 12:00 Uhr für das Angeln gesperrt ist.
URL:https://gav-reinheim.de/event/ludwigsteich-gesperrt-6
LOCATION:Ludwigsteich\, Roßdorf\, 64380
CATEGORIES:Sperrzeiten
ORGANIZER;CN="GAV Reinheim - Ueberau":MAILTO:info@gav-reinheim.de
END:VEVENT
BEGIN:VEVENT
DTSTART;TZID=Europe/Berlin:20251102T080000
DTEND;TZID=Europe/Berlin:20251102T170000
DTSTAMP:20260419T163832
CREATED:20241227T221134Z
LAST-MODIFIED:20260322T201741Z
UID:1120-1762070400-1762102800@gav-reinheim.de
SUMMARY:6. Hegeangeln (Jugend und Vorstand)
DESCRIPTION:Liebe GAV Mitglieder\, \nwir laden zum gemeinsamen Hegeangeln ein und freuen uns auf einen entspannten Tag mit euch. \nSchaut in den Chat bzgl. Verpflegung. Letztes Jahr hat Vitali – bester Mann – für uns gegrillt. \nViele Grüße und ein dickes Petri\nEuer Vorstand
URL:https://gav-reinheim.de/event/6-hegeangeln-jugend-und-vorstand
LOCATION:Ludwigsteich\, Roßdorf\, 64380
CATEGORIES:Hegeangeln,Jugend
ORGANIZER;CN="GAV Reinheim - Ueberau":MAILTO:info@gav-reinheim.de
END:VEVENT
BEGIN:VEVENT
DTSTART;TZID=Europe/Berlin:20251108T080000
DTEND;TZID=Europe/Berlin:20251108T120000
DTSTAMP:20260419T163832
CREATED:20241227T214655Z
LAST-MODIFIED:20241227T220058Z
UID:1099-1762588800-1762603200@gav-reinheim.de
SUMMARY:GAV Einsatz (Georgenhausen)
DESCRIPTION:Liebe GAV Mitglieder\, \nunsere Gewässer und Anlagen brauchen eure Hilfe. Wir bitten euch zur Teilnahme an diesem GAV Einsatz. \nWir starten um 08:00 Uhr und besprechen wie wir die Aufgaben unter uns verteilen. Gegen 10:00 Uhr frühstücken wir gemeinsam\, Speisen und Getränke werden vom GAV gestellt. \nDer Einsatz dauert voraussichtlich bis 12 Uhr. \n\nDamit die Planung der zu erledigenden Arbeiten vorgenommen werden kann\, ist eine Voranmeldung von 14 Tagen vor dem jeweiligen Arbeitseinsatz notwendig. Bei Nichtanmeldung fällt der Termin gegebenenfalls aus; die Arbeitsstunden können dann nicht anerkannt werden. \nDie Anmeldung für die Arbeitseinsätze erfolgt bei Alexander Pinciu: alex@pinciu.de\, 0179/1439445 oder einfach im Chat. \n\nViele Grüße\nEuer Vorstand
URL:https://gav-reinheim.de/event/gav-einsatz-georgenhausen-2
LOCATION:Mühlteich Georgenhausen\, Ententeich\, Georgenhausen\, Hessen\, 64354\, Germany
CATEGORIES:GAV Einsätze
ORGANIZER;CN="GAV Reinheim - Ueberau":MAILTO:info@gav-reinheim.de
END:VEVENT
BEGIN:VEVENT
DTSTART;TZID=Europe/Berlin:20251115T080000
DTEND;TZID=Europe/Berlin:20251115T120000
DTSTAMP:20260419T163832
CREATED:20241227T213725Z
LAST-MODIFIED:20241227T215155Z
UID:1092-1763193600-1763208000@gav-reinheim.de
SUMMARY:GAV Einsatz (Ludwigsteich)
DESCRIPTION:Liebe GAV Mitglieder\, \nunsere Gewässer und Anlagen brauchen eure Hilfe. Wir bitten euch zur Teilnahme an diesem GAV Einsatz. \nWir starten um 08:00 Uhr und besprechen wie wir die Aufgaben unter uns verteilen. Gegen 10:00 Uhr frühstücken wir gemeinsam\, Speisen und Getränke werden vom GAV gestellt. \nDer Einsatz dauert voraussichtlich bis 12/13 Uhr. \n\nDamit die Planung der zu erledigenden Arbeiten vorgenommen werden kann\, ist eine Voranmeldung von 14 Tagen vor dem jeweiligen Arbeitseinsatz notwendig. Bei Nichtanmeldung fällt der Termin gegebenenfalls aus; die Arbeitsstunden können dann nicht anerkannt werden. \nDie Anmeldung für die Arbeitseinsätze erfolgt bei Alexander Pinciu: alex@pinciu.de\, 0179/1439445 oder einfach im Chat. \n\nViele Grüße\nEuer Vorstand
URL:https://gav-reinheim.de/event/gav-einsatz-ludwigsteich-4
LOCATION:Ludwigsteich\, Roßdorf\, 64380
CATEGORIES:GAV Einsätze
ORGANIZER;CN="GAV Reinheim - Ueberau":MAILTO:info@gav-reinheim.de
END:VEVENT
END:VCALENDAR