BEGIN:VCALENDAR
VERSION:2.0
PRODID:-//Gewässerschutz- und Angelverein Reinheim - Ueberau - ECPv6.10.0//NONSGML v1.0//EN
CALSCALE:GREGORIAN
METHOD:PUBLISH
X-WR-CALNAME:Gewässerschutz- und Angelverein Reinheim - Ueberau
X-ORIGINAL-URL:https://gav-reinheim.de
X-WR-CALDESC:Veranstaltungen für Gewässerschutz- und Angelverein Reinheim - Ueberau
REFRESH-INTERVAL;VALUE=DURATION:PT1H
X-Robots-Tag:noindex
X-PUBLISHED-TTL:PT1H
BEGIN:VTIMEZONE
TZID:Europe/Berlin
BEGIN:DAYLIGHT
TZOFFSETFROM:+0100
TZOFFSETTO:+0200
TZNAME:CEST
DTSTART:20260329T010000
END:DAYLIGHT
BEGIN:STANDARD
TZOFFSETFROM:+0200
TZOFFSETTO:+0100
TZNAME:CET
DTSTART:20261025T010000
END:STANDARD
END:VTIMEZONE
BEGIN:VEVENT
DTSTART;VALUE=DATE:20261027
DTEND;VALUE=DATE:20261102
DTSTAMP:20260423T133855
CREATED:20260117T143252Z
LAST-MODIFIED:20260117T143419Z
UID:1408-1793059200-1793577599@gav-reinheim.de
SUMMARY:Ludwigsteich gesperrt
DESCRIPTION:Ruhe für die Fische. \nWie jedes Jahr ist auch dieses der Ludwigsteich vor dem 1.\, 5. und 6. Hegeangeln jeweils ab Dienstag 12:00 Uhr für das Angeln gesperrt.
URL:https://gav-reinheim.de/event/ludwigsteich-gesperrt-10
LOCATION:Ludwigsteich\, Roßdorf\, 64380
CATEGORIES:Sperrzeiten
ORGANIZER;CN="GAV Reinheim - Ueberau":MAILTO:info@gav-reinheim.de
END:VEVENT
BEGIN:VEVENT
DTSTART;TZID=Europe/Berlin:20261101T080000
DTEND;TZID=Europe/Berlin:20261101T170000
DTSTAMP:20260423T133855
CREATED:20260117T141931Z
LAST-MODIFIED:20260322T201458Z
UID:1398-1793520000-1793552400@gav-reinheim.de
SUMMARY:6. Hegeangeln 2026 (Jugend + Vorstand)
DESCRIPTION:Liebe GAV Mitglieder\, \nwir laden unsere Jugend zum gemeinsamen Hegeangeln mit dem Vorstand ein und freuen uns auf einen entspannten Tag mit euch. \nViele Grüße und ein dickes Petri\nEuer Vorstand
URL:https://gav-reinheim.de/event/6-hegeangeln-2026-jugend-vorstand
LOCATION:Ludwigsteich\, Roßdorf\, 64380
CATEGORIES:Hegeangeln
ORGANIZER;CN="GAV Reinheim - Ueberau":MAILTO:info@gav-reinheim.de
END:VEVENT
END:VCALENDAR