BEGIN:VCALENDAR
VERSION:2.0
PRODID:-//Gewässerschutz- und Angelverein Reinheim - Ueberau - ECPv6.10.0//NONSGML v1.0//EN
CALSCALE:GREGORIAN
METHOD:PUBLISH
X-WR-CALNAME:Gewässerschutz- und Angelverein Reinheim - Ueberau
X-ORIGINAL-URL:https://gav-reinheim.de
X-WR-CALDESC:Veranstaltungen für Gewässerschutz- und Angelverein Reinheim - Ueberau
REFRESH-INTERVAL;VALUE=DURATION:PT1H
X-Robots-Tag:noindex
X-PUBLISHED-TTL:PT1H
BEGIN:VTIMEZONE
TZID:Europe/Berlin
BEGIN:DAYLIGHT
TZOFFSETFROM:+0100
TZOFFSETTO:+0200
TZNAME:CEST
DTSTART:20260329T010000
END:DAYLIGHT
BEGIN:STANDARD
TZOFFSETFROM:+0200
TZOFFSETTO:+0100
TZNAME:CET
DTSTART:20261025T010000
END:STANDARD
END:VTIMEZONE
BEGIN:VEVENT
DTSTART;TZID=Europe/Berlin:20260905T080000
DTEND;TZID=Europe/Berlin:20260905T080000
DTSTAMP:20260419T192500
CREATED:20260117T150554Z
LAST-MODIFIED:20260117T150554Z
UID:1428-1788595200-1788595200@gav-reinheim.de
SUMMARY:GAV Einsatz (Ludwigsteich)
DESCRIPTION:Liebe GAV Mitglieder\, \nunsere Gewässer und Anlagen brauchen eure Hilfe. Wir bitten euch um Teilnahme an diesem GAV Einsatz. \nWir starten um 08:00 Uhr und besprechen wie wir die Aufgaben unter uns verteilen. Gegen 10:00 Uhr frühstücken wir gemeinsam\, Speisen und Getränke werden vom GAV gestellt. \nDer Einsatz dauert voraussichtlich bis 12 Uhr. \n\nDamit die Planung der zu erledigenden Arbeiten vorgenommen werden kann\, ist eine Voranmeldung 7 Tage vor dem jeweiligen Arbeitseinsatz notwendig. Bei Nichtanmeldung fällt der Termin gegebenenfalls aus; die Arbeitsstunden können dann nicht anerkannt werden. \nIhr könnte euch in der Whatsapp-Mitgliedergruppe„Aktive Mitglieder“oder bei den jeweiligen Teichwarten direkt anmelden. \n\nViele Grüße\nEuer Vorstand
URL:https://gav-reinheim.de/event/gav-einsatz-ludwigsteich-7
LOCATION:Ludwigsteich\, Roßdorf\, 64380
CATEGORIES:GAV Einsätze
ORGANIZER;CN="GAV Reinheim - Ueberau":MAILTO:info@gav-reinheim.de
END:VEVENT
END:VCALENDAR